BEGIN:VCALENDAR
VERSION:2.0
PRODID:-// - ECPv6.15.14//NONSGML v1.0//EN
CALSCALE:GREGORIAN
METHOD:PUBLISH
X-ORIGINAL-URL:https://bcst.or.th
X-WR-CALDESC:Events for 
REFRESH-INTERVAL;VALUE=DURATION:PT1H
X-Robots-Tag:noindex
X-PUBLISHED-TTL:PT1H
BEGIN:VTIMEZONE
TZID:Asia/Krasnoyarsk
BEGIN:STANDARD
TZOFFSETFROM:+0700
TZOFFSETTO:+0700
TZNAME:+07
DTSTART:20250101T000000
END:STANDARD
END:VTIMEZONE
BEGIN:VEVENT
DTSTART;VALUE=DATE:20260330
DTEND;VALUE=DATE:20260601
DTSTAMP:20260420T105021
CREATED:20260417T092201Z
LAST-MODIFIED:20260417T093337Z
UID:1236-1774828800-1780271999@bcst.or.th
SUMMARY:โครงการประกวดภาพนกเพื่อสร้างแรงบันดาลใจและพลังแห่งการอนุรักษ์
DESCRIPTION:  \n \n  \n“ชีวิตติดปีก : ความอิสระเสรี คือ ส่วนหนึ่งของความงดงามตามธรรมชาติ” \n\nThai PBS ร่วมกับสมาคมอนุรักษ์นกและธรรมชาติแห่งประเทศไทย (BCST) จัดการประกวดภาพนก ทั้งภาพนิ่งและภาพเคลื่อนไหว เพื่อการตระหนักถึงคุณค่าของธรรมชาติ สิ่งแวดล้อม ความหลากหลายทางชีวภาพ และความหมายของการใช้ชีวิต \n“ชีวิตติดปีก” จึงไม่ใช่เพียงโครงการเกี่ยวกับนกเท่านั้น\nแต่คือพื้นที่ที่ธรรมชาติช่วยเยียวยาและสร้างความเข้าใจระหว่างคนกับสิ่งแวดล้อมอย่างยั่งยืน \n\n\n\n\nThai PBS ชีวิตติดปีก Photo Contest \nโครงการประกวดภาพนกเพื่อสร้างแรงบันดาลใจและพลังแห่งการอนุรักษ์ผ่านภาพถ่าย คลิปวิดีโอ และการเล่าเรื่อง \n.\n ไม่ว่าจะมือใหม่ มือเก๋า กล้องใหญ่ หรือกล้องมือถือ ก็มีสิทธิชิงเงินรางวัลมูลค่ารวม 220\,000 บาท! พร้อมเกียรติบัตร และเผยแพร่ผลงานในทุกช่องทางของไทยพีบีเอส \n.\n ส่งผลงานได้แล้ววันนี้ – 31 พฤษภาคม 2569\n\nรายละเอียดเพิ่มเติมคลิกที่นี่ \n\n\n\n\nเพราะทุกภาพ…ช่วยให้ธรรมชาติบินต่อไป #ชีวิตติดปีก #ThaiPBS #BCST\n\n\n\n\n\n\n\n\n\n\nรางวัลการประกวด\n\n\n\nเงินรางวัลรวม 220\,000 บาท พร้อมเกียรติบัตร และเผยแพร่ผลงานในทุกช่องทางของไทยพีบีเอส \n \n\n\n\n\n1.ประเภทภาพนิ่ง ระดับเยาวชน\n\n\n\nรางวัลที่ 1 ชนะเลิศ \n\n\nเกียรติบัตรและเงินรางวัล 25\,000 บาท\n\n\n\n\nรางวัลที่ 2 รองชนะเลิศอันดับ 1 \n\n\nเกียรติบัตรและเงินรางวัล 15\,000 บาท\n\n\n\n\nรางวัลที่ 3 รองชนะเลิศอันดับ 2 \n\n\nเกียรติบัตรและเงินรางวัล10\,000 บาท\n\n\n\n\nรางวัลชมเชย 2 รางวัล \n\n\nเกียรติบัตรและเงินรางวัล5\,000 บาท\n\n\n\n\n\n\n\n2.ประเภทภาพนิ่ง ระดับประชาชนทั่วไป\n\n\n\nรางวัลที่ 1 ชนะเลิศ \n\n\nเกียรติบัตรและเงินรางวัล25\,000 บาท\n\n\n\n\nรางวัลที่ 2 รองชนะเลิศอันดับ 1 \n\n\nเกียรติบัตรและเงินรางวัล15\,000 บาท\n\n\n\n\nรางวัลที่ 3 รองชนะเลิศอันดับ 2 \n\n\nเกียรติบัตรและเงินรางวัล10\,000 บาท\n\n\n\n\nรางวัลชมเชย 2 รางวัล \n\n\nเกียรติบัตรและเงินรางวัล5\,000 บาท\n\n\n\n\n\n\n\n\n\n\n\n\n\n\n\n\n\n3.ประเภทคลิปสั้น ไม่จำกัดอายุ\n  \n\n\n\n \nรางวัลที่ 1 ชนะเลิศ \n\n\nเกียรติบัตรและเงินรางวัล 30\,000 บาท\n\n\n\n\nรางวัลที่ 2 รองชนะเลิศอันดับ 1 \n\n\nเกียรติบัตรและเงินรางวัล 20\,000 บาท\n\n\n\n\nรางวัลที่ 3 รองชนะเลิศอันดับ 2 \n\n\nเกียรติบัตรและเงินรางวัล 15\,000 บาท\n\n\n\n\nรางวัลชมเชย 2 รางวัล \n\n\nเกียรติบัตรและเงินรางวัล 5\,000 บาท\n\n\n\n\n\n\n4.ประเภทภาพนิ่งจากโทรศัพท์มือถือ “นกบ้านฉัน” ไม่จำกัดอายุ\n  \n\n\n  \nรางวัล Popular Vote 5 รางวัล \n\n\nเกียรติบัตรและเงินรางวัล5\,000 บาท\n\n\n\n\n\n\n\n\n\n\n\n\nหลักเกณฑ์ และกติกาการส่งผลงานเข้าประกวด\n\n\n\n\nไฟล์ภาพและวิดีโอต้องถ่ายทำด้วยตนเอง ห้ามทําซ้ำ ดัดแปลง เลียนแบบภาพหรือคลิปวิดีโอของบุคคลอื่น หรือนําภาพ หรือคลิปวิดีโอของผู้อื่นมาส่ง หรือส่งในนามผู้อื่นโดยเด็ดขาด และไม่เป็นการสร้างจาก AI\nระบุรายละเอียดที่มาของภาพ-วิดีโอ อุปกรณ์ทั้งหมดที่ใช้ ระบุวัน-เดือน-เวลาที่ถ่าย ชื่อนก และสถานที่ถ่าย พร้อมแรงบันดาลใจ ไม่เกิน 300 ตัวอักษร\nผลงานที่ส่งเข้าประกวดต้องถ่ายภายในระยะเวลาของกิจกรรมเท่านั้น (มีนาคม-พฤษภาคม 2569) ไม่เคยเผยแพร่ หรือส่งเข้าประกวดอื่น ๆ มาก่อน\nต้องไม่ละเมิดทรัพย์สินทางปัญญา และปฏิบัติตามกฎหมายที่เกี่ยวข้อง เช่น พรบ.คุ้มครองสัตว์ป่า ฯลฯ\nการใช้โปรแกรมตกแต่งภาพและคลิปวิดีโอให้ดําเนินการได้เฉพาะการปรับความสว่างของภาพตามความเหมาะสม แต่ยังคงความเป็นธรรมชาติ ไม่ใช้เทคนิคการตัดต่อพิเศษ (Effect) และเสียงประกอบใด ๆ\nภาพและคลิปวิดีโอที่ส่งเข้าประกวดจะต้องไม่มีลายน้ำ เครดิตภาพ ตัวอักษร หรือกราฟิกใด ๆ บนภาพถ่ายและคลิปวิดีโอนั้น สําหรับภาพถ่ายห้ามเว้นขอบภาพเป็นสีขาวหรือสีใด ๆ\nการจัดส่งไฟล์ภาพสำหรับประเภทภาพนิ่งระดับเยาวชนและระดับประชาชนทั่วไป ต้องเป็นภาพที่ถ่ายด้วยกล้องดิจิทัล เป็นไฟล์ภาพสีแนวนอนหรือแนวตั้ง จำกัดขนาดในการส่ง 5-20 MB ต่อภาพ ในรูปแบบไฟล์ JPEG เท่านั้น (หากผลงานได้รับการคัดเลือก ต้องมีไฟล์ Raw เพื่อยืนยันความเป็นเจ้าของภาพ และเตรียมไฟล์ภาพ High Resolution ขนาดไม่เกิน 30 MB ต่อ 1 ภาพเพื่อส่งให้ทีมงานไว้สำหรับการตรวจสอบ)\nการจัดส่งไฟล์ภาพสำหรับประเภทภาพนิ่งจากโทรศัพท์มือถือ “นกบ้านฉัน” ต้องเป็นภาพที่ถ่ายด้วยกล้องโทรศัพท์มือถือเท่านั้น ไม่มีการเสริมเลนส์ หรือติดตั้งอุปกรณ์ช่วยถ่ายภาพใด ๆ เป็นไฟล์ภาพสีแนวนอนหรือแนวตั้ง จำกัดขนาดในการส่ง 2 – 15 MB ต่อภาพ ในรูปแบบไฟล์ JPEG หรือ HEIC (หากผลงานได้รับการคัดเลือก ต้องมีไฟล์ Raw หรือไฟล์ภาพดั้งเดิมที่ติด Metadata หรือ Exif Data เพื่อส่งให้ทีมงานไว้สำหรับการตรวจสอบ)\nการจัดส่งวิดีโอ กำหนดความยาวไม่ต่ำกว่า 15 วินาที และไม่เกิน 60 วินาที จำกัดขนาดในการส่ง 50-500 MB ต่อคลิป ในรูปแบบไฟล์ MP4 ขนาด FULL HD (1920×1080) หรือ 4K (4096×2160) เป็นการบันทึกภาพแบบต่อเนื่องที่เกิดจากไฟล์เดียว ไม่อนุญาตให้นำ 2 ไฟล์ขึ้นไปมารวมกัน ควรมีเสียงของธรรมชาติในขณะบันทึก โดยไม่ต้องบรรยาย หรือใส่เสียงดนตรีประกอบ\nสําหรับภาพและ/หรือคลิปวิดีโอที่ถ่ายโดย Drone และ Camera Trap ต้องไม่ละเมิดกฎหมาย หรือระเบียบราชการที่เกี่ยวข้องสําหรับพื้นที่ที่ถ่ายภาพหรือคลิปวิดีโอนั้น ๆ โดยจะต้องมีเอกสารที่ได้รับอนุญาตจากราชการ หรือหน่วยงานที่เกี่ยวข้องเช่น หนังสืออนุญาตให้ถ่ายภาพ/ถ่ายทําภาพยนตร์ (หากอยู่ในพื้นที่ของกรมอุทยานฯ และกรมป่าไม้) ภาพและ/หรือคลิปวิดีโอจาก Camera Trap จะต้องมีเอกสารที่ได้รับอนุญาตจากราชการ หรือหน่วยงานที่เกี่ยวข้อง และต้องได้รับอนุญาตให้เข้าไปติดตั้งกล้องในพื้นที่ภายใน\nผู้ส่งภาพเข้าประกวดจะต้องรักษาไฟล์ภาพต้นฉบับทั้งก่อนและหลังการปรับแต่งไว้ โดยคณะกรรมการตัดสินสามารถเรียกขอไฟล์ภาพดังกล่าวได้ หากเกิดกรณีมีการประท้วงในการทําผิดกติกา หรือในกรณีที่จะต้องนําภาพถ่ายไปพิมพ์ในขนาดใหญ่สําหรับไฟล์คลิปวิดีโอ ผู้ชนะการประกวดต้องเก็บไฟล์ RAW หรือไฟล์ภาพดั้งเดิมที่ติด Metadata หรือ Exif Data และมอบให้หลังจากคณะกรรมการได้ตัดสินเสร็จสิ้นแล้ว\nผู้ส่งผลงานเข้าประกวดตกลงรับรองว่า ผลงานภาพถ่ายที่ส่งเข้าร่วมการประกวดเป็นผลงานที่ผู้ส่งผลงานเป็นผู้สร้างสรรค์ขึ้นด้วยตนเอง และไม่ละเมิดสิทธิของบุคคลอื่น และอนุญาตให้เผยแพร่รูปภาพ และคลิปวิดีโอในลักษณะที่ไม่ผิดต่อกฎหมายได้ ผู้ส่งผลงานยินยอมให้ผู้จัดการประกวดมีสิทธิในการนำผลงานภาพถ่ายที่ส่งเข้าประกวดทุกผลงาน ไม่ว่าจะได้รับรางวัล ผ่านการคัดเลือก หรือไม่ได้รับการคัดเลือก ไปใช้ เผยแพร่ ทำซ้ำ ดัดแปลง หรือเผยแพร่ต่อสาธารณชน เพื่อประโยชน์ในการประชาสัมพันธ์ การศึกษา การรณรงค์ด้านการอนุรักษ์ทรัพยากรธรรมชาติและสิ่งแวดล้อม การจัดแสดงนิทรรศการ ตลอดจนกิจกรรมที่เกี่ยวข้องกับโครงการ ทั้งในสื่อสิ่งพิมพ์ สื่ออิเล็กทรอนิกส์ และสื่อดิจิทัลทุกประเภท โดยไม่จำกัดระยะเวลาและพื้นที่ และโดยไม่ต้องชำระค่าตอบแทนใด ๆ เพิ่มเติม ทั้งนี้ ผู้จัดการประกวดจะระบุชื่อเจ้าของผลงานทุกครั้งตามความเหมาะสม และจะไม่นำผลงานไปใช้ในลักษณะที่ก่อให้เกิดความเสียหายต่อชื่อเสียงของเจ้าของผลงาน การส่งผลงานเข้าประกวดถือว่าผู้ส่งผลงานได้อ่าน เข้าใจ และยินยอมผูกพันตามเงื่อนไขดังกล่าวทุกประการ\nหากพบว่ามีการร้องเรียน หรือพิสูจน์ได้ภายหลังว่าภาพหรือคลิปวิดีโอที่ส่งเข้าประกวดมิใช่ของผู้ส่งผลงาน หรือมีการละเมิดลิขสิทธิ์ ผู้จัดการประกวดมีสิทธิ์ในการเรียกคืนรางวัลหรือตัดสิทธิ์การรับรางวัล ทั้งนี้ กรรมการผู้จัดการประกวดจะไม่รับผิดชอบต่อความเสียหายที่เกิดขึ้นไม่ว่ากรณีใด ๆ ต่อการละเมิดลิขสิทธิ์นั้น\nผู้ส่งภาพและคลิปวิดีโอเข้าประกวดไม่มีสิทธิ์อ้างว่ากระทําผิดเพราะอ่านกฎ กติกาไม่ครบถ้วน หรือไม่เข้าใจกฎ กติกา เป็นอันขาด และการพิจารณาตัดสินของคณะกรรมการตัดสินถือเป็นที่สุดและเด็ดขาด\nลงทะเบียนและจัดส่งผลงานทาง www.thaipbs.or.th/birdphoto2026 ตั้งแต่วันที่ 29 มีนาคม – 31 พฤษภาคม 2569\n\n\n\n\n\n…………..\n\n\n\nBird Photography Contest\nThai PBS “Life with Wings” Photo Contest\n\n\nBCST in collaboration with Thai PBS invites you to join our bird photography competition. Our mission is to inspire and ignite a passion for conservation through the power of photography\, video clips\, and storytelling.\n\n\nWhether you’re a beginner or a pro—using a DSLR or just your smartphone you have a chance to win!\n\n\nTotal Prizes: Over 220\,000 THB\n\n\nPerks: Award certificates and a chance to have your work featured across all Thai PBS platforms.\n\n\nSubmissions open now until May 31\, 2026\n\n\n\nFor more details\, visit: www.thaipbs.or.th/birdphoto2026
URL:https://bcst.or.th/event/thai-pbs-%e0%b8%8a%e0%b8%b5%e0%b8%a7%e0%b8%b4%e0%b8%95%e0%b8%95%e0%b8%b4%e0%b8%94%e0%b8%9b%e0%b8%b5%e0%b8%81-photo-contest/
ATTACH;FMTTYPE=image/jpeg:https://bcst.or.th/wp-content/uploads/2026/04/Thai-PBS-Photo-Contest.jpg
END:VEVENT
END:VCALENDAR