BEGIN:VCALENDAR
VERSION:2.0
PRODID:-// - ECPv6.15.14//NONSGML v1.0//EN
CALSCALE:GREGORIAN
METHOD:PUBLISH
X-ORIGINAL-URL:https://bcst.or.th
X-WR-CALDESC:Events for 
REFRESH-INTERVAL;VALUE=DURATION:PT1H
X-Robots-Tag:noindex
X-PUBLISHED-TTL:PT1H
BEGIN:VTIMEZONE
TZID:Asia/Krasnoyarsk
BEGIN:STANDARD
TZOFFSETFROM:+0700
TZOFFSETTO:+0700
TZNAME:+07
DTSTART:20240101T000000
END:STANDARD
END:VTIMEZONE
BEGIN:VEVENT
DTSTART;VALUE=DATE:20250906
DTEND;VALUE=DATE:20250907
DTSTAMP:20260420T164822
CREATED:20250906T072428Z
LAST-MODIFIED:20250906T072538Z
UID:519-1757116800-1757203199@bcst.or.th
SUMMARY:6 ก.ย. — World Shorebirds Day : วันนกชายเลนโลก
DESCRIPTION:อ่านบทความ
URL:https://bcst.or.th/event/6-%e0%b8%81-%e0%b8%a2-world-shorebirds-day-%e0%b8%a7%e0%b8%b1%e0%b8%99%e0%b8%99%e0%b8%81%e0%b8%8a%e0%b8%b2%e0%b8%a2%e0%b9%80%e0%b8%a5%e0%b8%99%e0%b9%82%e0%b8%a5%e0%b8%81/
CATEGORIES:วันสำคัญที่เกี่ยวกับนก
ATTACH;FMTTYPE=image/png:https://bcst.or.th/wp-content/uploads/2025/09/ทริปไทรทอง-ภูเขียว-.png
END:VEVENT
END:VCALENDAR