BEGIN:VCALENDAR
VERSION:2.0
PRODID:-// - ECPv6.15.14//NONSGML v1.0//EN
CALSCALE:GREGORIAN
METHOD:PUBLISH
X-ORIGINAL-URL:https://bcst.or.th
X-WR-CALDESC:Events for 
REFRESH-INTERVAL;VALUE=DURATION:PT1H
X-Robots-Tag:noindex
X-PUBLISHED-TTL:PT1H
BEGIN:VTIMEZONE
TZID:Asia/Krasnoyarsk
BEGIN:STANDARD
TZOFFSETFROM:+0700
TZOFFSETTO:+0700
TZNAME:+07
DTSTART:20240101T000000
END:STANDARD
END:VTIMEZONE
BEGIN:VEVENT
DTSTART;VALUE=DATE:20251001
DTEND;VALUE=DATE:20251004
DTSTAMP:20260420T203758
CREATED:20250906T071615Z
LAST-MODIFIED:20251018T034044Z
UID:513-1759276800-1759535999@bcst.or.th
SUMMARY:Bird Walk สัญจร
DESCRIPTION:From becoming a member to donating to conserving your land to participating in a\nvolunteer or community science project—your support is what makes protecting\nthe nature of Massachusetts possible.
URL:https://bcst.or.th/event/bird-walk-%e0%b8%aa%e0%b8%b1%e0%b8%8d%e0%b8%88%e0%b8%a3/
CATEGORIES:Birdwatching Tour
ATTACH;FMTTYPE=image/png:https://bcst.or.th/wp-content/uploads/2025/09/ทริปไทรทอง-ภูเขียว-.png
END:VEVENT
END:VCALENDAR